BEGIN:VCALENDAR
VERSION:2.0
PRODID:-//Plone.org//NONSGML plone.app.event//EN
X-WR-TIMEZONE:Europe/Berlin
BEGIN:VEVENT
SUMMARY:RemTech
DTSTART;TZID=GMT+0;VALUE=DATE-TIME:20160921T100000
DTEND;TZID=GMT+0;VALUE=DATE-TIME:20160923T180000
DTSTAMP;VALUE=DATE-TIME:20260423T091452Z
UID:6d33b9ab754149f0af8ef91f9859a8f3@www.isprambiente.gov.it
CREATED;VALUE=DATE-TIME:20160711T112311Z
LAST-MODIFIED;VALUE=DATE-TIME:20170213T162045Z
LOCATION:Quartiere fieristico Ferrara
URL:https://www.isprambiente.gov.it/en/archive/news-and-other-events/ispra
 -news/2016/09/remtech
END:VEVENT
END:VCALENDAR
