BEGIN:VCALENDAR
VERSION:2.0
PRODID:-//Plone.org//NONSGML plone.app.event//EN
X-WR-TIMEZONE:Europe/Berlin
BEGIN:VEVENT
SUMMARY:Science's home - the science at home
DTSTART;TZID=GMT+0;VALUE=DATE-TIME:20160924T160000
DTEND;TZID=GMT+0;VALUE=DATE-TIME:20160924T183000
DTSTAMP;VALUE=DATE-TIME:20260423T110250Z
UID:01ea9daf6a6d4d22be0721a9a263099e@www.isprambiente.gov.it
CREATED;VALUE=DATE-TIME:20160921T142302Z
LAST-MODIFIED;VALUE=DATE-TIME:20170213T162047Z
LOCATION:Roma
URL:https://www.isprambiente.gov.it/en/archive/news-and-other-events/ispra
 -news/2016/09/sciences-home-the-science-at-home
END:VEVENT
END:VCALENDAR
