BEGIN:VCALENDAR
VERSION:2.0
PRODID:-//Plone.org//NONSGML plone.app.event//EN
X-WR-TIMEZONE:Europe/Berlin
BEGIN:VEVENT
SUMMARY:SNPA communicators together with FIMA
DTSTART;TZID=GMT+0;VALUE=DATE-TIME:20160929T103000
DTEND;TZID=GMT+0;VALUE=DATE-TIME:20160929T160000
DTSTAMP;VALUE=DATE-TIME:20260423T105001Z
UID:1ec6be07ee974ffab5f0e1af13c169dc@www.isprambiente.gov.it
CREATED;VALUE=DATE-TIME:20161003T162126Z
LAST-MODIFIED;VALUE=DATE-TIME:20170213T162044Z
LOCATION:Bologna
URL:https://www.isprambiente.gov.it/en/archive/news-and-other-events/ispra
 -news/2016/09/snpa-communicators-together-with-fima
END:VEVENT
END:VCALENDAR
