BEGIN:VCALENDAR
VERSION:2.0
PRODID:-//Plone.org//NONSGML plone.app.event//EN
X-WR-TIMEZONE:Europe/Berlin
BEGIN:VEVENT
SUMMARY:The Researchers'Night  will return in September. Ispra will partic
 ipate to the initiative
DTSTART;TZID=GMT+0;VALUE=DATE-TIME:20160924T150000
DTEND;TZID=GMT+0;VALUE=DATE-TIME:20160930T010000
DTSTAMP;VALUE=DATE-TIME:20260423T091925Z
UID:f6bbff5e417046f49b61ccd52c810cb2@www.isprambiente.gov.it
CREATED;VALUE=DATE-TIME:20160707T141146Z
LAST-MODIFIED;VALUE=DATE-TIME:20170213T162045Z
LOCATION:Around Italian territory
URL:https://www.isprambiente.gov.it/en/archive/news-and-other-events/ispra
 -news/2016/09/the-researchersnight-will-return-in-september.-ispra-will-pa
 rticipate-to-the-initiative
END:VEVENT
END:VCALENDAR
