BEGIN:VCALENDAR
VERSION:2.0
PRODID:-//Plone.org//NONSGML plone.app.event//EN
X-WR-TIMEZONE:Europe/Berlin
BEGIN:VEVENT
SUMMARY:The transposition of the EU Directive 2013/59 on radiation protect
 ion
DTSTART;TZID=GMT+0;VALUE=DATE-TIME:20160916T090000
DTEND;TZID=GMT+0;VALUE=DATE-TIME:20160916T160000
DTSTAMP;VALUE=DATE-TIME:20260423T091842Z
UID:99fe316efec7443b816fc934b7a8ffb3@www.isprambiente.gov.it
CREATED;VALUE=DATE-TIME:20160812T104802Z
LAST-MODIFIED;VALUE=DATE-TIME:20170213T162045Z
URL:https://www.isprambiente.gov.it/en/archive/news-and-other-events/ispra
 -news/2016/09/the-transposition-of-the-eu-directive-2013-59-on-radiation-p
 rotection
END:VEVENT
END:VCALENDAR
