BEGIN:VCALENDAR
VERSION:2.0
PRODID:-//Plone.org//NONSGML plone.app.event//EN
X-WR-TIMEZONE:Europe/Berlin
BEGIN:VEVENT
SUMMARY:Towards the discovery of  the geological\, paleontological and arc
 haeological aspects in a sector of the Abruzzese Apennines between Alba Fu
 cens and Marsia
DTSTART;TZID=GMT+0;VALUE=DATE-TIME:20161023T093000
DTEND;TZID=GMT+0;VALUE=DATE-TIME:20161023T160000
DTSTAMP;VALUE=DATE-TIME:20260423T105417Z
UID:f5f6f03e70fd401e8cdd810ebfae697c@www.isprambiente.gov.it
CREATED;VALUE=DATE-TIME:20160914T115029Z
LAST-MODIFIED;VALUE=DATE-TIME:20170213T162046Z
LOCATION:Massa d'Albe (AQ)
URL:https://www.isprambiente.gov.it/en/archive/news-and-other-events/ispra
 -news/2016/09/towards-the-discovery-of-the-geological-paleontological-and-
 archaeological-aspects-of-an-area-in-the-abruzzese-apennines-between-alba-
 fucens-and-marsia
END:VEVENT
END:VCALENDAR
