BEGIN:VCALENDAR
VERSION:2.0
PRODID:-//Plone.org//NONSGML plone.app.event//EN
X-WR-TIMEZONE:Europe/Berlin
BEGIN:VEVENT
SUMMARY:Large carnivores and scavengers birds threatened in Europe
DTSTART;TZID=GMT+0;VALUE=DATE-TIME:20161013T083000
DTEND;TZID=GMT+0;VALUE=DATE-TIME:20161014T170000
DTSTAMP;VALUE=DATE-TIME:20260421T050916Z
UID:e93c0219f4764509abd651969d88ada8@www.isprambiente.gov.it
CREATED;VALUE=DATE-TIME:20161006T110740Z
LAST-MODIFIED;VALUE=DATE-TIME:20170213T155649Z
LOCATION:Teramo
URL:https://www.isprambiente.gov.it/en/archive/news-and-other-events/ispra
 -news/2016/10/grandi-carnivori-e-rapaci-necrofagi-minacciati-in-europa
END:VEVENT
END:VCALENDAR
