BEGIN:VCALENDAR
VERSION:2.0
PRODID:-//Plone.org//NONSGML plone.app.event//EN
X-WR-TIMEZONE:Europe/Berlin
BEGIN:VEVENT
SUMMARY:The Earth is renewed ... the taste as well
DTSTART;TZID=GMT+0;VALUE=DATE-TIME:20161010T000000
DTEND;TZID=GMT+0;VALUE=DATE-TIME:20161010T000000
DTSTAMP;VALUE=DATE-TIME:20260420T143108Z
UID:4165b30dd05746b1b711c868bfc14c74@www.isprambiente.gov.it
CREATED;VALUE=DATE-TIME:20161005T141302Z
LAST-MODIFIED;VALUE=DATE-TIME:20170213T155648Z
LOCATION:Castel Giuliano\, Bracciano
URL:https://www.isprambiente.gov.it/en/archive/news-and-other-events/ispra
 -news/2016/10/the-earth-is-renewed-...-the-taste-as-well
END:VEVENT
END:VCALENDAR
