BEGIN:VCALENDAR
VERSION:2.0
PRODID:-//Plone.org//NONSGML plone.app.event//EN
X-WR-TIMEZONE:Europe/Berlin
BEGIN:VEVENT
SUMMARY:Wolf in italy : current status and management proposals
DTSTART;TZID=GMT+0;VALUE=DATE-TIME:20161027T170000
DTEND;TZID=GMT+0;VALUE=DATE-TIME:20161027T193000
DTSTAMP;VALUE=DATE-TIME:20260420T104950Z
UID:56c92d3af0fb416ea6fbb5d5304eb5f9@www.isprambiente.gov.it
CREATED;VALUE=DATE-TIME:20161027T142608Z
LAST-MODIFIED;VALUE=DATE-TIME:20170213T160944Z
LOCATION:Roma
URL:https://www.isprambiente.gov.it/en/archive/news-and-other-events/ispra
 -news/2016/10/wolf-in-italy-current-status-and-management-proposals
END:VEVENT
END:VCALENDAR
