BEGIN:VCALENDAR
VERSION:2.0
PRODID:-//Plone.org//NONSGML plone.app.event//EN
X-WR-TIMEZONE:Europe/Berlin
BEGIN:VEVENT
SUMMARY:Ancient hydraulic technique
DTSTART;TZID=GMT+0;VALUE=DATE-TIME:20161118T090000
DTEND;TZID=GMT+0;VALUE=DATE-TIME:20161118T180000
DTSTAMP;VALUE=DATE-TIME:20260423T074936Z
UID:6c5f7202269d42cca862610cd6481144@www.isprambiente.gov.it
CREATED;VALUE=DATE-TIME:20161110T095813Z
LAST-MODIFIED;VALUE=DATE-TIME:20170213T162216Z
LOCATION:Rome
URL:https://www.isprambiente.gov.it/en/archive/news-and-other-events/ispra
 -news/2016/11/ancient-hydraulic-technique
END:VEVENT
END:VCALENDAR
