BEGIN:VCALENDAR
VERSION:2.0
PRODID:-//Plone.org//NONSGML plone.app.event//EN
X-WR-TIMEZONE:Europe/Berlin
BEGIN:VEVENT
SUMMARY:Arpal and ISPRA together towards the "Agreement on the sea"
DTSTART;TZID=GMT+0;VALUE=DATE-TIME:20161130T094500
DTEND;TZID=GMT+0;VALUE=DATE-TIME:20161130T110000
DTSTAMP;VALUE=DATE-TIME:20260423T075125Z
UID:11da8c92b80e41d9834d0673a275bb3b@www.isprambiente.gov.it
CREATED;VALUE=DATE-TIME:20161129T115336Z
LAST-MODIFIED;VALUE=DATE-TIME:20170213T162605Z
URL:https://www.isprambiente.gov.it/en/archive/news-and-other-events/ispra
 -news/2016/11/arpal-and-ispra-together-towards-the-agreement-on-the-sea
END:VEVENT
END:VCALENDAR
