BEGIN:VCALENDAR
VERSION:2.0
PRODID:-//Plone.org//NONSGML plone.app.event//EN
X-WR-TIMEZONE:Europe/Berlin
BEGIN:VEVENT
SUMMARY:Presentation of the Project AMBER
DTSTART;TZID=GMT+0;VALUE=DATE-TIME:20161130T100000
DTEND;TZID=GMT+0;VALUE=DATE-TIME:20161130T160000
DTSTAMP;VALUE=DATE-TIME:20260423T073730Z
UID:73829a5b2d0749dc8b7007fff47121a7@www.isprambiente.gov.it
CREATED;VALUE=DATE-TIME:20161109T131526Z
LAST-MODIFIED;VALUE=DATE-TIME:20170213T162214Z
LOCATION:Milano. Commissione Europea - Rappresentanza Regionale a Milan. P
 alazzo delle Stelline
URL:https://www.isprambiente.gov.it/en/archive/news-and-other-events/ispra
 -news/2016/11/presentation-of-the-project-amber
END:VEVENT
END:VCALENDAR
