BEGIN:VCALENDAR
VERSION:2.0
PRODID:-//Plone.org//NONSGML plone.app.event//EN
X-WR-TIMEZONE:Europe/Berlin
BEGIN:VEVENT
SUMMARY:Press conference of presentation of the FLORANET Life project
DTSTART;TZID=GMT+0;VALUE=DATE-TIME:20161125T110000
DTEND;TZID=GMT+0;VALUE=DATE-TIME:20161125T183000
DTSTAMP;VALUE=DATE-TIME:20260419T163320Z
UID:c1cf409847c84454bd1581e471b86a7c@www.isprambiente.gov.it
CREATED;VALUE=DATE-TIME:20161122T110731Z
DESCRIPTION:Preservation and enhancement of plant species of Community int
 erest present in the natural parks of the Abruzzese Apennines
LAST-MODIFIED;VALUE=DATE-TIME:20170213T162557Z
LOCATION:Pescara
URL:https://www.isprambiente.gov.it/en/archive/news-and-other-events/ispra
 -news/2016/11/press-conference-of-presentation-of-the-floranet-life-projec
 t
END:VEVENT
END:VCALENDAR
