BEGIN:VCALENDAR
VERSION:2.0
PRODID:-//Plone.org//NONSGML plone.app.event//EN
X-WR-TIMEZONE:Europe/Berlin
BEGIN:VEVENT
SUMMARY:EXpert PAnel for Polluting Emissions Reduction = EXPAPER
DTSTART;TZID=GMT+0;VALUE=DATE-TIME:20170119T090000
DTEND;TZID=GMT+0;VALUE=DATE-TIME:20170119T180000
DTSTAMP;VALUE=DATE-TIME:20260423T111018Z
UID:4f7c5b79592b42419470fee6b8700245@www.isprambiente.gov.it
CREATED;VALUE=DATE-TIME:20170117T154011Z
LAST-MODIFIED;VALUE=DATE-TIME:20180202T140034Z
LOCATION:Rome
URL:https://www.isprambiente.gov.it/en/archive/news-and-other-events/ispra
 -news/2017/01/expert-panel-for-polluting-emissions-reduction-expaper
END:VEVENT
END:VCALENDAR
