BEGIN:VCALENDAR
VERSION:2.0
PRODID:-//Plone.org//NONSGML plone.app.event//EN
X-WR-TIMEZONE:Europe/Berlin
BEGIN:VEVENT
SUMMARY:Winter school AssoARPA
DTSTART;TZID=GMT+0;VALUE=DATE-TIME:20170329T140000
DTEND;TZID=GMT+0;VALUE=DATE-TIME:20170331T140000
DTSTAMP;VALUE=DATE-TIME:20260420T110244Z
UID:bebdd70bf0874b428a24ee6bc790dc6a@www.isprambiente.gov.it
CREATED;VALUE=DATE-TIME:20170327T123425Z
LAST-MODIFIED;VALUE=DATE-TIME:20180202T150633Z
LOCATION:Arabba (Belluno)
URL:https://www.isprambiente.gov.it/en/archive/news-and-other-events/ispra
 -news/2017/03/winter-school-assoarpa
END:VEVENT
END:VCALENDAR
