BEGIN:VCALENDAR
VERSION:2.0
PRODID:-//Plone.org//NONSGML plone.app.event//EN
X-WR-TIMEZONE:Europe/Berlin
BEGIN:VEVENT
SUMMARY:Climate change adaptation : experiences and opportunities of LIFE 
 project in Italy
DTSTART;TZID=GMT+0;VALUE=DATE-TIME:20170524T100000
DTEND;TZID=GMT+0;VALUE=DATE-TIME:20170524T170000
DTSTAMP;VALUE=DATE-TIME:20260423T085044Z
UID:955fb22c9e964d1dae579932fedbd15a@www.isprambiente.gov.it
CREATED;VALUE=DATE-TIME:20170509T141937Z
DESCRIPTION:Conference
LAST-MODIFIED;VALUE=DATE-TIME:20180202T151100Z
LOCATION:Rome\, Aranciera di San Sisto\, Via di Valle delle Camene\,11
URL:https://www.isprambiente.gov.it/en/archive/news-and-other-events/ispra
 -news/2017/05/climate-change-adaptation-experiences-and-opportunities-of-l
 ife-project-in-italy
END:VEVENT
END:VCALENDAR
