BEGIN:VCALENDAR
VERSION:2.0
PRODID:-//Plone.org//NONSGML plone.app.event//EN
X-WR-TIMEZONE:Europe/Berlin
BEGIN:VEVENT
SUMMARY:Marine sediments: characterization\, dredging\, treatment and reus
 e
DTSTART;TZID=GMT+0;VALUE=DATE-TIME:20170518T090000
DTEND;TZID=GMT+0;VALUE=DATE-TIME:20170518T133000
DTSTAMP;VALUE=DATE-TIME:20260423T084351Z
UID:f5d7ad4d6aec40a099e91cb8bc5e82f8@www.isprambiente.gov.it
CREATED;VALUE=DATE-TIME:20170508T150656Z
LAST-MODIFIED;VALUE=DATE-TIME:20180202T151056Z
LOCATION:Rome\, Assoporti
URL:https://www.isprambiente.gov.it/en/archive/news-and-other-events/ispra
 -news/2017/05/marine-sediments-characterization-dredging-treatment-and-reu
 se
END:VEVENT
END:VCALENDAR
