BEGIN:VCALENDAR
VERSION:2.0
PRODID:-//Plone.org//NONSGML plone.app.event//EN
X-WR-TIMEZONE:Europe/Berlin
BEGIN:VEVENT
SUMMARY:A third way of plant nursery for environmental restoring 
DTSTART;TZID=GMT+0;VALUE=DATE-TIME:20170921T103000
DTEND;TZID=GMT+0;VALUE=DATE-TIME:20170921T130000
DTSTAMP;VALUE=DATE-TIME:20260420T143108Z
UID:c8e57e26ff8345b5bc3877b0f8d18721@www.isprambiente.gov.it
CREATED;VALUE=DATE-TIME:20170915T120534Z
LAST-MODIFIED;VALUE=DATE-TIME:20180202T152151Z
LOCATION:Padua Exhibition - Flormart
URL:https://www.isprambiente.gov.it/en/archive/news-and-other-events/ispra
 -news/2017/09/a-third-way-of-plant-nursery-for-environmental-restoring
END:VEVENT
END:VCALENDAR
