BEGIN:VCALENDAR
VERSION:2.0
PRODID:-//Plone.org//NONSGML plone.app.event//EN
X-WR-TIMEZONE:Europe/Berlin
BEGIN:VEVENT
SUMMARY:Summer School AssoArpa
DTSTART;TZID=GMT+0;VALUE=DATE-TIME:20170927T150000
DTEND;TZID=GMT+0;VALUE=DATE-TIME:20170929T140000
DTSTAMP;VALUE=DATE-TIME:20260423T091615Z
UID:1ebf5d9dd8e7470d8491a5e81693e5e9@www.isprambiente.gov.it
CREATED;VALUE=DATE-TIME:20170831T104806Z
DESCRIPTION:ARPA Reform in the context of SNPA system
LAST-MODIFIED;VALUE=DATE-TIME:20180202T151703Z
LOCATION:Cagliari
URL:https://www.isprambiente.gov.it/en/archive/news-and-other-events/ispra
 -news/2017/09/summer-school-assoarpa
END:VEVENT
END:VCALENDAR
