BEGIN:VCALENDAR
VERSION:2.0
PRODID:-//Plone.org//NONSGML plone.app.event//EN
X-WR-TIMEZONE:Europe/Berlin
BEGIN:VEVENT
SUMMARY:Ten year later the National Conference on Climate Change
DTSTART;TZID=GMT+0;VALUE=DATE-TIME:20170912T113000
DTEND;TZID=GMT+0;VALUE=DATE-TIME:20170912T130000
DTSTAMP;VALUE=DATE-TIME:20260424T102841Z
UID:5c370a337a204aadaa831e88966b8e13@www.isprambiente.gov.it
CREATED;VALUE=DATE-TIME:20170911T115330Z
LAST-MODIFIED;VALUE=DATE-TIME:20180202T151943Z
LOCATION:Roma\, Palazzo Madama
URL:https://www.isprambiente.gov.it/en/archive/news-and-other-events/ispra
 -news/2017/09/ten-year-later-the-national-conference-on-climate-change
END:VEVENT
END:VCALENDAR
