BEGIN:VCALENDAR
VERSION:2.0
PRODID:-//Plone.org//NONSGML plone.app.event//EN
X-WR-TIMEZONE:Europe/Berlin
BEGIN:VEVENT
SUMMARY:Conference "Prevention direction"
DTSTART;TZID=GMT+0;VALUE=DATE-TIME:20171019T105500
DTEND;TZID=GMT+0;VALUE=DATE-TIME:20171020T105500
DTSTAMP;VALUE=DATE-TIME:20260423T091538Z
UID:4a15a920f4434cf09ab58d41d49ea526@www.isprambiente.gov.it
CREATED;VALUE=DATE-TIME:20171017T130135Z
LAST-MODIFIED;VALUE=DATE-TIME:20180202T152341Z
LOCATION:Modena - Università degli Studi di Modena e Reggio Emilia
URL:https://www.isprambiente.gov.it/en/archive/news-and-other-events/ispra
 -news/2017/10/conference-prevention-direction
END:VEVENT
END:VCALENDAR
