BEGIN:VCALENDAR
VERSION:2.0
PRODID:-//Plone.org//NONSGML plone.app.event//EN
X-WR-TIMEZONE:Europe/Berlin
BEGIN:VEVENT
SUMMARY:Ecocrimes in the law code : numbers and facts after 2 years of law
  approval  
DTSTART;TZID=GMT+0;VALUE=DATE-TIME:20171028T093000
DTEND;TZID=GMT+0;VALUE=DATE-TIME:20171028T130000
DTSTAMP;VALUE=DATE-TIME:20260420T105307Z
UID:94ed6e0af8ce4e9ea0b589629251219e@www.isprambiente.gov.it
CREATED;VALUE=DATE-TIME:20171023T162734Z
LAST-MODIFIED;VALUE=DATE-TIME:20180202T152447Z
LOCATION:L'Aquila - Via delle Fratte
URL:https://www.isprambiente.gov.it/en/archive/news-and-other-events/ispra
 -news/2017/10/ecocrimes-in-the-law-code-numbers-and-facts-after-2-years-of
 -the
END:VEVENT
END:VCALENDAR
