BEGIN:VCALENDAR
VERSION:2.0
PRODID:-//Plone.org//NONSGML plone.app.event//EN
X-WR-TIMEZONE:Europe/Berlin
BEGIN:VEVENT
SUMMARY:National Action Plan to sustainable use of plant protection produc
 ts: the role of PSRs and biological agriculture
DTSTART;TZID=GMT+0;VALUE=DATE-TIME:20171026T121500
DTEND;TZID=GMT+0;VALUE=DATE-TIME:20171027T123000
DTSTAMP;VALUE=DATE-TIME:20260421T100610Z
UID:43aad11befba49aa802020425e785e61@www.isprambiente.gov.it
CREATED;VALUE=DATE-TIME:20171018T142134Z
LAST-MODIFIED;VALUE=DATE-TIME:20180202T152409Z
LOCATION:Firenze
URL:https://www.isprambiente.gov.it/en/archive/news-and-other-events/ispra
 -news/2017/10/national-action-plan-to-sustainable-use-of-plant-protection-
 products-the-role-of-psrs-and-organic-farming
END:VEVENT
END:VCALENDAR
