BEGIN:VCALENDAR
VERSION:2.0
PRODID:-//Plone.org//NONSGML plone.app.event//EN
X-WR-TIMEZONE:Europe/Berlin
BEGIN:VEVENT
SUMMARY:Water and Land Conference 2017
DTSTART;TZID=GMT+0;VALUE=DATE-TIME:20171004T090000
DTEND;TZID=GMT+0;VALUE=DATE-TIME:20171005T130000
DTSTAMP;VALUE=DATE-TIME:20260423T091650Z
UID:3903d7d162d241e4a23159f2b08a8761@www.isprambiente.gov.it
CREATED;VALUE=DATE-TIME:20170925T105835Z
LAST-MODIFIED;VALUE=DATE-TIME:20180202T152126Z
LOCATION:Cagliari
URL:https://www.isprambiente.gov.it/en/archive/news-and-other-events/ispra
 -news/2017/10/water-and-land-conference-2017
END:VEVENT
END:VCALENDAR
