BEGIN:VCALENDAR
VERSION:2.0
PRODID:-//Plone.org//NONSGML plone.app.event//EN
X-WR-TIMEZONE:Europe/Berlin
BEGIN:VEVENT
SUMMARY:Earth/Natural Resources Working Group
DTSTART;TZID=GMT+0;VALUE=DATE-TIME:20171205T090000
DTEND;TZID=GMT+0;VALUE=DATE-TIME:20171206T143000
DTSTAMP;VALUE=DATE-TIME:20260423T091614Z
UID:6fcbd23d7441438e89e125f409c51008@www.isprambiente.gov.it
CREATED;VALUE=DATE-TIME:20171205T124214Z
DESCRIPTION:6 december   ISPRA President\, Stefano Laporta\, has met today
  in Whashington the On.  Kristine Svinicki\,  President of US Nuclear Reg
 ulatory Commission (USNRC)\, to talk about nuclear safety cooperation Us-I
 taly. Also concerning to his role as Coordinator for the Council of the Na
 tional Inspectorate for Nuclear Safety and Radioprotection (ISIN)\, ISPRA 
 President has underlined the importance to strengthen technical exchanges.
    Both President said that are available to review the terms agreement be
 tween the two Institutions\, taking into account the new priorities linked
  to the establishment of ISIN\, including staff training activities.
LAST-MODIFIED;VALUE=DATE-TIME:20190314T164913Z
LOCATION:Washington D.C. - Italian Embassy
URL:https://www.isprambiente.gov.it/en/archive/news-and-other-events/ispra
 -news/2017/12/earth-science-working-group-meeting
END:VEVENT
END:VCALENDAR
