BEGIN:VCALENDAR
VERSION:2.0
PRODID:-//Plone.org//NONSGML plone.app.event//EN
X-WR-TIMEZONE:Europe/Berlin
BEGIN:VEVENT
SUMMARY:Ensuring agricultural production\, supporting biodiversity
DTSTART;TZID=GMT+0;VALUE=DATE-TIME:20171220T090000
DTEND;TZID=GMT+0;VALUE=DATE-TIME:20171220T170000
DTSTAMP;VALUE=DATE-TIME:20260423T091713Z
UID:6107a524bda94507bbaf2f10af3c299b@www.isprambiente.gov.it
CREATED;VALUE=DATE-TIME:20171212T130848Z
LAST-MODIFIED;VALUE=DATE-TIME:20180220T104118Z
LOCATION:Sabaudia
URL:https://www.isprambiente.gov.it/en/archive/news-and-other-events/ispra
 -news/2017/12/ensuring-agricultural-production-supporting-biodiversity
END:VEVENT
END:VCALENDAR
