BEGIN:VCALENDAR
VERSION:2.0
PRODID:-//Plone.org//NONSGML plone.app.event//EN
X-WR-TIMEZONE:Europe/Berlin
BEGIN:VEVENT
SUMMARY:SNPA in Trento to debate water from plant protection products
DTSTART;TZID=GMT+0;VALUE=DATE-TIME:20181129T090000
DTEND;TZID=GMT+0;VALUE=DATE-TIME:20181129T160000
DTSTAMP;VALUE=DATE-TIME:20260423T065923Z
UID:153507b9214e4affad97d57b7f3fc3c6@www.isprambiente.gov.it
CREATED;VALUE=DATE-TIME:20181107T102209Z
DESCRIPTION:It's fundamental to have more knowledge of pesticides and an a
 dequate knowledge of the impacts they can cause. It is also necessary to p
 ut together all the methodological approaches\, which must be shared for a
  better quality of life for all citizens. These main concepts emerged toda
 y during the seminar "Protection of water from plant protection products: 
 actions\, experiments and innovation"\, promoted by APPA Trento\, attended
  by ISPRA President and SNPA Stefano Laporta and ISPRA General Manager Ale
 ssandro Bratti.
LAST-MODIFIED;VALUE=DATE-TIME:20210115T140356Z
LOCATION:Trento
URL:https://www.isprambiente.gov.it/en/archive/news-and-other-events/ispra
 -news/2018/11/protection-of-water-from-plant-protection-products-actions-e
 xperiments-and-innovation
END:VEVENT
END:VCALENDAR
