BEGIN:VCALENDAR
VERSION:2.0
PRODID:-//Plone.org//NONSGML plone.app.event//EN
X-WR-TIMEZONE:Europe/Berlin
BEGIN:VEVENT
SUMMARY:Italian Universities also become free plastic
DTSTART;TZID=GMT+0;VALUE=DATE-TIME:20190130T000000
DTEND;TZID=GMT+0;VALUE=DATE-TIME:20190130T000000
DTSTAMP;VALUE=DATE-TIME:20260423T062941Z
UID:6cf597efa5a74b71b4e4341044533637@www.isprambiente.gov.it
CREATED;VALUE=DATE-TIME:20190130T103114Z
LAST-MODIFIED;VALUE=DATE-TIME:20210115T135701Z
LOCATION:Rome
URL:https://www.isprambiente.gov.it/en/archive/news-and-other-events/ispra
 -news/2019/01/italian-universities-also-become-free-plastic
END:VEVENT
END:VCALENDAR
