BEGIN:VCALENDAR
VERSION:2.0
PRODID:-//Plone.org//NONSGML plone.app.event//EN
X-WR-TIMEZONE:Europe/Berlin
BEGIN:VEVENT
SUMMARY:Agriculture Metropolis
DTSTART;TZID=GMT+0;VALUE=DATE-TIME:20190222T090000
DTEND;TZID=GMT+0;VALUE=DATE-TIME:20190222T173000
DTSTAMP;VALUE=DATE-TIME:20260423T030453Z
UID:d8996453f8ae41b4912e5554880d4589@www.isprambiente.gov.it
CREATED;VALUE=DATE-TIME:20190219T134909Z
DESCRIPTION:#2030  Agri-food systems for the sustainability: a dialogue be
 tween local and global
LAST-MODIFIED;VALUE=DATE-TIME:20210115T135902Z
LOCATION:Milano
URL:https://www.isprambiente.gov.it/en/archive/news-and-other-events/ispra
 -news/2019/02/agriculture-metropolis
END:VEVENT
END:VCALENDAR
