BEGIN:VCALENDAR
VERSION:2.0
PRODID:-//Plone.org//NONSGML plone.app.event//EN
X-WR-TIMEZONE:Europe/Berlin
BEGIN:VEVENT
SUMMARY:All more responsible for seas and oceans
DTSTART;TZID=GMT+0;VALUE=DATE-TIME:20190318T100000
DTEND;TZID=GMT+0;VALUE=DATE-TIME:20190320T170000
DTSTAMP;VALUE=DATE-TIME:20260423T062951Z
UID:6adfad8615be4f30b037791c7891bc04@www.isprambiente.gov.it
CREATED;VALUE=DATE-TIME:20190219T163245Z
LAST-MODIFIED;VALUE=DATE-TIME:20210115T135856Z
LOCATION:Bruxelles
URL:https://www.isprambiente.gov.it/en/archive/news-and-other-events/ispra
 -news/2019/02/all-more-responsible-for-seas-and-oceans
END:VEVENT
END:VCALENDAR
