BEGIN:VCALENDAR
VERSION:2.0
PRODID:-//Plone.org//NONSGML plone.app.event//EN
X-WR-TIMEZONE:Europe/Berlin
BEGIN:VEVENT
SUMMARY:Marine strategy monitoring plans: results\, experiences\, and pros
 pectives
DTSTART;TZID=GMT+0;VALUE=DATE-TIME:20190327T090000
DTEND;TZID=GMT+0;VALUE=DATE-TIME:20190327T160000
DTSTAMP;VALUE=DATE-TIME:20260423T075135Z
UID:d40f949db02f40968816ac78df748237@www.isprambiente.gov.it
CREATED;VALUE=DATE-TIME:20190326T162137Z
LAST-MODIFIED;VALUE=DATE-TIME:20210115T140319Z
LOCATION:Rome
URL:https://www.isprambiente.gov.it/en/archive/news-and-other-events/ispra
 -news/2019/03/marine-strategy-monitoing-plans-results-experiences-and-pros
 pectives
END:VEVENT
END:VCALENDAR
