BEGIN:VCALENDAR
VERSION:2.0
PRODID:-//Plone.org//NONSGML plone.app.event//EN
X-WR-TIMEZONE:Europe/Berlin
BEGIN:VEVENT
SUMMARY:Aedifica
DTSTART;TZID=GMT+0;VALUE=DATE-TIME:20190404T000000
DTEND;TZID=GMT+0;VALUE=DATE-TIME:20190405T000000
DTSTAMP;VALUE=DATE-TIME:20260423T054238Z
UID:fab37008d6d94134bb1f664fc4a7a355@www.isprambiente.gov.it
CREATED;VALUE=DATE-TIME:20190404T111910Z
LAST-MODIFIED;VALUE=DATE-TIME:20210115T140512Z
LOCATION:Vicenza
URL:https://www.isprambiente.gov.it/en/archive/news-and-other-events/ispra
 -news/2019/04/aedifica
END:VEVENT
END:VCALENDAR
