BEGIN:VCALENDAR
VERSION:2.0
PRODID:-//Plone.org//NONSGML plone.app.event//EN
X-WR-TIMEZONE:Europe/Berlin
BEGIN:VEVENT
SUMMARY:"Deep colours of the Mediterranean sea" in exhibition at the Itali
 an Culture Institute of Tokyo
DTSTART;TZID=GMT+0;VALUE=DATE-TIME:20190414T101000
DTEND;TZID=GMT+0;VALUE=DATE-TIME:20190427T170000
DTSTAMP;VALUE=DATE-TIME:20260423T054622Z
UID:e6b9eca003b44a72bde6c0539dbc0e87@www.isprambiente.gov.it
CREATED;VALUE=DATE-TIME:20190320T132234Z
LAST-MODIFIED;VALUE=DATE-TIME:20210115T140508Z
LOCATION:Istituto Italiano di cultura\, 102-0074 Tokyo\, Japan
URL:https://www.isprambiente.gov.it/en/archive/news-and-other-events/ispra
 -news/2019/04/deep-colours-of-the-mediterranean-sea-in-exhibition-at-the-c
 ulture-italian-institute-of-tokyo
END:VEVENT
END:VCALENDAR
