BEGIN:VCALENDAR
VERSION:2.0
PRODID:-//Plone.org//NONSGML plone.app.event//EN
X-WR-TIMEZONE:Europe/Berlin
BEGIN:VEVENT
SUMMARY:First National Conference on the sustainable future of plastics
DTSTART;TZID=GMT+0;VALUE=DATE-TIME:20190405T093000
DTEND;TZID=GMT+0;VALUE=DATE-TIME:20190405T170000
DTSTAMP;VALUE=DATE-TIME:20260423T054458Z
UID:25e5bc7dc162480abff345de929d930a@www.isprambiente.gov.it
CREATED;VALUE=DATE-TIME:20190306T124620Z
LAST-MODIFIED;VALUE=DATE-TIME:20210115T140510Z
LOCATION:Milano
URL:https://www.isprambiente.gov.it/en/archive/news-and-other-events/ispra
 -news/2019/04/first-national-conference-on-the-sustainable-future-of-plast
 ics
END:VEVENT
END:VCALENDAR
