BEGIN:VCALENDAR
VERSION:2.0
PRODID:-//Plone.org//NONSGML plone.app.event//EN
X-WR-TIMEZONE:Europe/Berlin
BEGIN:VEVENT
SUMMARY:For a national strategy of wastes
DTSTART;TZID=GMT+0;VALUE=DATE-TIME:20190418T093000
DTEND;TZID=GMT+0;VALUE=DATE-TIME:20190418T133000
DTSTAMP;VALUE=DATE-TIME:20260423T054442Z
UID:854bf98f2e304948a6a31b33576d68f2@www.isprambiente.gov.it
CREATED;VALUE=DATE-TIME:20190318T155043Z
LAST-MODIFIED;VALUE=DATE-TIME:20210115T140507Z
URL:https://www.isprambiente.gov.it/en/archive/news-and-other-events/ispra
 -news/2019/04/for-a-national-strategy-of-wastes
END:VEVENT
END:VCALENDAR
