BEGIN:VCALENDAR
VERSION:2.0
PRODID:-//Plone.org//NONSGML plone.app.event//EN
X-WR-TIMEZONE:Europe/Berlin
BEGIN:VEVENT
SUMMARY:Innovation and experimentation in training on occupational safety 
 issues. Projects and Perspectives for Public Research Bodies
DTSTART;TZID=GMT+0;VALUE=DATE-TIME:20190402T090000
DTEND;TZID=GMT+0;VALUE=DATE-TIME:20190402T140000
DTSTAMP;VALUE=DATE-TIME:20260423T054443Z
UID:d638a57cdd844501b887d0b037858757@www.isprambiente.gov.it
CREATED;VALUE=DATE-TIME:20190325T104004Z
LAST-MODIFIED;VALUE=DATE-TIME:20210115T140508Z
LOCATION:Rome
URL:https://www.isprambiente.gov.it/en/archive/news-and-other-events/ispra
 -news/2019/04/innovation-and-experimentation-in-training-on-occupational-s
 afety-issues.-projects-and-perspectives-for-public-research-bodies
END:VEVENT
END:VCALENDAR
