BEGIN:VCALENDAR
VERSION:2.0
PRODID:-//Plone.org//NONSGML plone.app.event//EN
X-WR-TIMEZONE:Europe/Berlin
BEGIN:VEVENT
SUMMARY:Ispra at the "Sea day" in Venice
DTSTART;TZID=GMT+0;VALUE=DATE-TIME:20190411T103000
DTEND;TZID=GMT+0;VALUE=DATE-TIME:20190411T123000
DTSTAMP;VALUE=DATE-TIME:20260423T054347Z
UID:7f34133133144005a4929843b749b0ba@www.isprambiente.gov.it
CREATED;VALUE=DATE-TIME:20190410T171515Z
LAST-MODIFIED;VALUE=DATE-TIME:20210115T140504Z
LOCATION:Venice - Stazione Marittima (magazzino 103)
URL:https://www.isprambiente.gov.it/en/archive/news-and-other-events/ispra
 -news/2019/04/ispra-at-the-sea-day-in-venice
END:VEVENT
END:VCALENDAR
