BEGIN:VCALENDAR
VERSION:2.0
PRODID:-//Plone.org//NONSGML plone.app.event//EN
X-WR-TIMEZONE:Europe/Berlin
BEGIN:VEVENT
SUMMARY:L'Aquila 2009-2019. Ten years of experiences\, studies and critica
 l issues
DTSTART;TZID=GMT+0;VALUE=DATE-TIME:20190412T090000
DTEND;TZID=GMT+0;VALUE=DATE-TIME:20190412T180000
DTSTAMP;VALUE=DATE-TIME:20260423T054346Z
UID:4c18b7a8460546938e71f83a91695aba@www.isprambiente.gov.it
CREATED;VALUE=DATE-TIME:20190402T115723Z
LAST-MODIFIED;VALUE=DATE-TIME:20210115T140513Z
LOCATION:Chieti
URL:https://www.isprambiente.gov.it/en/archive/news-and-other-events/ispra
 -news/2019/04/laquila-2009-2019.-ten-years-of-experiences-studies-and-crit
 ical-issues
END:VEVENT
END:VCALENDAR
