BEGIN:VCALENDAR
VERSION:2.0
PRODID:-//Plone.org//NONSGML plone.app.event//EN
X-WR-TIMEZONE:Europe/Berlin
BEGIN:VEVENT
SUMMARY:Project Eco-AlpsWater: Innovative Ecological Assessment and Water 
 Management Strategy for the Protection of Ecosystem Services in Alpine Lak
 es and Rivers
DTSTART;TZID=GMT+0;VALUE=DATE-TIME:20190411T093000
DTEND;TZID=GMT+0;VALUE=DATE-TIME:20190411T163000
DTSTAMP;VALUE=DATE-TIME:20260423T054623Z
UID:cb267d818e5943f3a2d643daea02f3b3@www.isprambiente.gov.it
CREATED;VALUE=DATE-TIME:20190315T122659Z
DESCRIPTION:Seminar to present the project
LAST-MODIFIED;VALUE=DATE-TIME:20210115T140507Z
LOCATION:Verona
URL:https://www.isprambiente.gov.it/en/archive/news-and-other-events/ispra
 -news/2019/04/project-eco-alpswater-innovative-ecological-assessment-and-w
 ater-management-strategy-for-the-protection-of-ecosystem-services-in-alpin
 e-lakes-and-rivers
END:VEVENT
END:VCALENDAR
