BEGIN:VCALENDAR
VERSION:2.0
PRODID:-//Plone.org//NONSGML plone.app.event//EN
X-WR-TIMEZONE:Europe/Berlin
BEGIN:VEVENT
SUMMARY:Seeds and ancient fruits
DTSTART;TZID=GMT+0;VALUE=DATE-TIME:20190411T084500
DTEND;TZID=GMT+0;VALUE=DATE-TIME:20190411T084500
DTSTAMP;VALUE=DATE-TIME:20260423T031232Z
UID:0ba0bb29e14a4366b2818d0efa97bf00@www.isprambiente.gov.it
CREATED;VALUE=DATE-TIME:20190405T105531Z
LAST-MODIFIED;VALUE=DATE-TIME:20210115T140511Z
URL:https://www.isprambiente.gov.it/en/archive/news-and-other-events/ispra
 -news/2019/04/seeds-and-ancient-fruits
END:VEVENT
END:VCALENDAR
