BEGIN:VCALENDAR
VERSION:2.0
PRODID:-//Plone.org//NONSGML plone.app.event//EN
X-WR-TIMEZONE:Europe/Berlin
BEGIN:VEVENT
SUMMARY:Seventh National Urban Exhibition "Mosaico Italia: telling the fut
 ure"
DTSTART;TZID=GMT+0;VALUE=DATE-TIME:20190403T000000
DTEND;TZID=GMT+0;VALUE=DATE-TIME:20190406T000000
DTSTAMP;VALUE=DATE-TIME:20260423T054516Z
UID:de059b9a6c494bf2b73d4416e7a612b5@www.isprambiente.gov.it
CREATED;VALUE=DATE-TIME:20190402T170000Z
LAST-MODIFIED;VALUE=DATE-TIME:20210115T140512Z
LOCATION:Riva del Garda
URL:https://www.isprambiente.gov.it/en/archive/news-and-other-events/ispra
 -news/2019/04/seventh-national-urban-exhibition-mosaico-italia-telling-the
 -future
END:VEVENT
END:VCALENDAR
