BEGIN:VCALENDAR
VERSION:2.0
PRODID:-//Plone.org//NONSGML plone.app.event//EN
X-WR-TIMEZONE:Europe/Berlin
BEGIN:VEVENT
SUMMARY:The public partecipation in the hydric body management
DTSTART;TZID=GMT+0;VALUE=DATE-TIME:20190409T090000
DTEND;TZID=GMT+0;VALUE=DATE-TIME:20190409T170000
DTSTAMP;VALUE=DATE-TIME:20260423T054458Z
UID:14aff1dc9bf94b92b14f73908b5d4114@www.isprambiente.gov.it
CREATED;VALUE=DATE-TIME:20190327T133754Z
DESCRIPTION:The involvement of the stakeholders in the River contracts
LAST-MODIFIED;VALUE=DATE-TIME:20210115T140509Z
LOCATION:Roma\, Centro Congressi Fontana di Trevi - Piazza della Pilotta\,
  4
URL:https://www.isprambiente.gov.it/en/archive/news-and-other-events/ispra
 -news/2019/04/the-public-partecipation-in-the-hydric-body-management
END:VEVENT
END:VCALENDAR
