BEGIN:VCALENDAR
VERSION:2.0
PRODID:-//Plone.org//NONSGML plone.app.event//EN
X-WR-TIMEZONE:Europe/Berlin
BEGIN:VEVENT
SUMMARY:Together for the future of brown bear in the Apennines
DTSTART;TZID=GMT+0;VALUE=DATE-TIME:20190411T093000
DTEND;TZID=GMT+0;VALUE=DATE-TIME:20190411T173000
DTSTAMP;VALUE=DATE-TIME:20260423T054517Z
UID:988534d3b2f94d0287aaa8f16876dd2e@www.isprambiente.gov.it
CREATED;VALUE=DATE-TIME:20190405T111426Z
LAST-MODIFIED;VALUE=DATE-TIME:20210115T140510Z
LOCATION:Rome
URL:https://www.isprambiente.gov.it/en/archive/news-and-other-events/ispra
 -news/2019/04/together-for-the-future-of-brown-bear-in-the-apennines
END:VEVENT
END:VCALENDAR
