BEGIN:VCALENDAR
VERSION:2.0
PRODID:-//Plone.org//NONSGML plone.app.event//EN
X-WR-TIMEZONE:Europe/Berlin
BEGIN:VEVENT
SUMMARY:Towards sustainable and resilient food systems
DTSTART;TZID=GMT+0;VALUE=DATE-TIME:20190405T170000
DTEND;TZID=GMT+0;VALUE=DATE-TIME:20190405T190000
DTSTAMP;VALUE=DATE-TIME:20260423T021354Z
UID:1ee0a73a87ea4ae29e356564019d7200@www.isprambiente.gov.it
CREATED;VALUE=DATE-TIME:20190329T085707Z
LAST-MODIFIED;VALUE=DATE-TIME:20210115T140509Z
LOCATION:Cremona
URL:https://www.isprambiente.gov.it/en/archive/news-and-other-events/ispra
 -news/2019/04/towards-sustainable-and-resilient-food-systems
END:VEVENT
END:VCALENDAR
