BEGIN:VCALENDAR
VERSION:2.0
PRODID:-//Plone.org//NONSGML plone.app.event//EN
X-WR-TIMEZONE:Europe/Berlin
BEGIN:VEVENT
SUMMARY:First InfoDay of the ChangeWeCare project on the resilience of the
  Adriatic coasts to climate change
DTSTART;TZID=GMT+0;VALUE=DATE-TIME:20190531T090000
DTEND;TZID=GMT+0;VALUE=DATE-TIME:20190531T130000
DTSTAMP;VALUE=DATE-TIME:20260423T061339Z
UID:628201d2554e456e89c667d584307680@www.isprambiente.gov.it
CREATED;VALUE=DATE-TIME:20190516T160637Z
LAST-MODIFIED;VALUE=DATE-TIME:20210115T140614Z
LOCATION:Goro
URL:https://www.isprambiente.gov.it/en/archive/news-and-other-events/ispra
 -news/2019/05/first-infoday-of-the-changewecare-project-on-the-resilience-
 of-the-adriatic-coasts-to-climate-change
END:VEVENT
END:VCALENDAR
