BEGIN:VCALENDAR
VERSION:2.0
PRODID:-//Plone.org//NONSGML plone.app.event//EN
X-WR-TIMEZONE:Europe/Berlin
BEGIN:VEVENT
SUMMARY:GRRinPORT project in Tour
DTSTART;TZID=GMT+0;VALUE=DATE-TIME:20190524T093000
DTEND;TZID=GMT+0;VALUE=DATE-TIME:20190524T133000
DTSTAMP;VALUE=DATE-TIME:20260423T110039Z
UID:553188a3018448f4995f3ee8c1e0aafc@www.isprambiente.gov.it
CREATED;VALUE=DATE-TIME:20190521T110743Z
LAST-MODIFIED;VALUE=DATE-TIME:20210115T140612Z
LOCATION:Bastia
URL:https://www.isprambiente.gov.it/en/archive/news-and-other-events/ispra
 -news/2019/05/grrinport-project-in-tour
END:VEVENT
END:VCALENDAR
