BEGIN:VCALENDAR
VERSION:2.0
PRODID:-//Plone.org//NONSGML plone.app.event//EN
X-WR-TIMEZONE:Europe/Berlin
BEGIN:VEVENT
SUMMARY:Recent addresses in flood risk management and climatic events of O
 ctober 2018: the Vaia storm
DTSTART;TZID=GMT+0;VALUE=DATE-TIME:20190507T083000
DTEND;TZID=GMT+0;VALUE=DATE-TIME:20190507T130000
DTSTAMP;VALUE=DATE-TIME:20260423T075249Z
UID:672891b6324845f6b318ce3ce3ddae8c@www.isprambiente.gov.it
CREATED;VALUE=DATE-TIME:20190410T132144Z
LAST-MODIFIED;VALUE=DATE-TIME:20210115T140606Z
LOCATION:Padova
URL:https://www.isprambiente.gov.it/en/archive/news-and-other-events/ispra
 -news/2019/05/recent-addresses-in-flood-risk-management-and-climatic-event
 s-of-october-2018-the-vaia-storm
END:VEVENT
END:VCALENDAR
