BEGIN:VCALENDAR
VERSION:2.0
PRODID:-//Plone.org//NONSGML plone.app.event//EN
X-WR-TIMEZONE:Europe/Berlin
BEGIN:VEVENT
SUMMARY:A new step for the city future
DTSTART;TZID=GMT+0;VALUE=DATE-TIME:20190605T093000
DTEND;TZID=GMT+0;VALUE=DATE-TIME:20190605T160000
DTSTAMP;VALUE=DATE-TIME:20260422T182150Z
UID:d7a335da0e0941389c827dfa73268355@www.isprambiente.gov.it
CREATED;VALUE=DATE-TIME:20190524T104840Z
LAST-MODIFIED;VALUE=DATE-TIME:20210115T140706Z
LOCATION:Torino
URL:https://www.isprambiente.gov.it/en/archive/news-and-other-events/ispra
 -news/2019/06/a-new-step-for-the-city-future
END:VEVENT
END:VCALENDAR
