BEGIN:VCALENDAR
VERSION:2.0
PRODID:-//Plone.org//NONSGML plone.app.event//EN
X-WR-TIMEZONE:Europe/Berlin
BEGIN:VEVENT
SUMMARY:CitySlow Assembly 2019
DTSTART;TZID=GMT+0;VALUE=DATE-TIME:20190620T000000
DTEND;TZID=GMT+0;VALUE=DATE-TIME:20190623T000000
DTSTAMP;VALUE=DATE-TIME:20260422T182150Z
UID:b400400ba33b49ceba8b5dc64c73df2b@www.isprambiente.gov.it
CREATED;VALUE=DATE-TIME:20190617T120518Z
LAST-MODIFIED;VALUE=DATE-TIME:20210115T140712Z
LOCATION:Orvieto
URL:https://www.isprambiente.gov.it/en/archive/news-and-other-events/ispra
 -news/2019/06/cityslow-assembly-2019
END:VEVENT
END:VCALENDAR
