BEGIN:VCALENDAR
VERSION:2.0
PRODID:-//Plone.org//NONSGML plone.app.event//EN
X-WR-TIMEZONE:Europe/Berlin
BEGIN:VEVENT
SUMMARY:Confernce "Plastics in...net"
DTSTART;TZID=GMT+0;VALUE=DATE-TIME:20190615T100000
DTEND;TZID=GMT+0;VALUE=DATE-TIME:20190615T133000
DTSTAMP;VALUE=DATE-TIME:20260423T061028Z
UID:2fa6259ac50e4951bda75ff5abe41bcc@www.isprambiente.gov.it
CREATED;VALUE=DATE-TIME:20190613T121208Z
LAST-MODIFIED;VALUE=DATE-TIME:20210115T140711Z
LOCATION:Rimini - Sala del Buonarrivo\, presso sede Provincia di Rimini - 
 Corso D'Augusto n. 23
URL:https://www.isprambiente.gov.it/en/archive/news-and-other-events/ispra
 -news/2019/06/confernce-plastics-in...net
END:VEVENT
END:VCALENDAR
